Package: gVenn Version: 1.0.0 Command: rm -rf gVenn.buildbin-libdir && mkdir gVenn.buildbin-libdir && /Users/biocbuild/BBS/utils/build-universal.sh gVenn_1.0.0.tar.gz /Library/Frameworks/R.framework/Resources/bin/R gVenn.buildbin-libdir StartedAt: 2025-11-10 23:22:46 -0500 (Mon, 10 Nov 2025) EndedAt: 2025-11-10 23:22:48 -0500 (Mon, 10 Nov 2025) EllapsedTime: 2.1 seconds RetCode: 0 Status: OK PackageFile: gVenn_1.0.0.tgz PackageFileSize: 2.006 MiB