Package: gINTomics Version: 1.6.0 Command: /home/biocbuild/bbs-3.22-bioc/R/bin/R CMD INSTALL gINTomics StartedAt: 2025-11-11 15:54:31 -0500 (Tue, 11 Nov 2025) EndedAt: 2025-11-11 15:56:00 -0500 (Tue, 11 Nov 2025) EllapsedTime: 88.7 seconds RetCode: 0 Status: OK