Package: gINTomics Version: 1.6.0 Command: /home/biocbuild/bbs-3.22-bioc/R/bin/R CMD check --install=check:gINTomics.install-out.txt --library=/home/biocbuild/bbs-3.22-bioc/R/site-library --timings gINTomics_1.6.0.tar.gz StartedAt: 2025-11-15 00:16:27 -0500 (Sat, 15 Nov 2025) EndedAt: 2025-11-15 00:42:36 -0500 (Sat, 15 Nov 2025) EllapsedTime: 1568.9 seconds RetCode: 0 Status: OK CheckDir: gINTomics.Rcheck Warnings: 0