Package: gINTomics Version: 1.4.1 Command: /home/biocbuild/bbs-3.21-bioc/R/bin/R CMD build --keep-empty-dirs --no-resave-data gINTomics StartedAt: 2025-10-15 17:45:03 -0400 (Wed, 15 Oct 2025) EndedAt: 2025-10-15 17:47:47 -0400 (Wed, 15 Oct 2025) EllapsedTime: 164.1 seconds RetCode: 0 Status: OK PackageFile: gINTomics_1.4.1.tar.gz PackageFileSize: 3.504 MiB