Package: gINTomics Version: 1.6.0 Command: /Library/Frameworks/R.framework/Resources/bin/R CMD INSTALL gINTomics StartedAt: 2025-11-03 15:50:22 -0500 (Mon, 03 Nov 2025) EndedAt: 2025-11-03 15:52:28 -0500 (Mon, 03 Nov 2025) EllapsedTime: 125.9 seconds RetCode: 0 Status: OK