Package: gINTomics Version: 1.6.0 Command: /Library/Frameworks/R.framework/Resources/bin/R CMD build --keep-empty-dirs --no-resave-data gINTomics StartedAt: 2025-11-03 17:12:20 -0500 (Mon, 03 Nov 2025) EndedAt: 2025-11-03 17:16:36 -0500 (Mon, 03 Nov 2025) EllapsedTime: 255.7 seconds RetCode: 0 Status: OK PackageFile: gINTomics_1.6.0.tar.gz PackageFileSize: 3.504 MiB