Package: gINTomics Version: 1.6.0 Command: rm -rf gINTomics.buildbin-libdir && mkdir gINTomics.buildbin-libdir && /Users/biocbuild/BBS/utils/build-universal.sh gINTomics_1.6.0.tar.gz /Library/Frameworks/R.framework/Resources/bin/R gINTomics.buildbin-libdir StartedAt: 2025-11-04 01:42:59 -0500 (Tue, 04 Nov 2025) EndedAt: 2025-11-04 01:45:11 -0500 (Tue, 04 Nov 2025) EllapsedTime: 132.9 seconds RetCode: 0 Status: OK PackageFile: gINTomics_1.6.0.tgz PackageFileSize: 3.786 MiB