Package: gINTomics Version: 1.4.0 Command: /home/biocbuild/R/R/bin/R CMD INSTALL gINTomics StartedAt: 2025-10-06 21:10:04 -0000 (Mon, 06 Oct 2025) EndedAt: 2025-10-06 21:11:59 -0000 (Mon, 06 Oct 2025) EllapsedTime: 114.8 seconds RetCode: 0 Status: OK