Package: gINTomics Version: 1.4.0 Command: /home/biocbuild/R/R/bin/R CMD build --keep-empty-dirs --no-resave-data gINTomics StartedAt: 2025-10-07 01:17:39 -0000 (Tue, 07 Oct 2025) EndedAt: 2025-10-07 01:23:36 -0000 (Tue, 07 Oct 2025) EllapsedTime: 357.1 seconds RetCode: 0 Status: OK PackageFile: gINTomics_1.4.0.tar.gz PackageFileSize: 3.567 MiB