Package: gINTomics Version: 1.6.0 Command: /Library/Frameworks/R.framework/Resources/bin/R CMD INSTALL gINTomics StartedAt: 2025-11-10 15:26:33 -0500 (Mon, 10 Nov 2025) EndedAt: 2025-11-10 15:27:09 -0500 (Mon, 10 Nov 2025) EllapsedTime: 36.3 seconds RetCode: 0 Status: OK