Package: gINTomics Version: 1.6.0 Command: /Library/Frameworks/R.framework/Resources/bin/R CMD build --keep-empty-dirs --no-resave-data gINTomics StartedAt: 2025-11-21 02:02:09 -0500 (Fri, 21 Nov 2025) EndedAt: 2025-11-21 02:05:48 -0500 (Fri, 21 Nov 2025) EllapsedTime: 218.6 seconds RetCode: 0 Status: OK PackageFile: gINTomics_1.6.0.tar.gz PackageFileSize: 3.504 MiB