Package: gDRutils Version: 1.8.0 Command: /home/biocbuild/R/R/bin/R CMD INSTALL gDRutils StartedAt: 2025-11-10 21:46:04 -0000 (Mon, 10 Nov 2025) EndedAt: 2025-11-10 21:46:34 -0000 (Mon, 10 Nov 2025) EllapsedTime: 30.1 seconds RetCode: 0 Status: OK