Package: gDRutils Version: 1.8.0 Command: /home/biocbuild/R/R/bin/R CMD build --keep-empty-dirs --no-resave-data gDRutils StartedAt: 2025-11-11 01:51:33 -0000 (Tue, 11 Nov 2025) EndedAt: 2025-11-11 01:52:18 -0000 (Tue, 11 Nov 2025) EllapsedTime: 45.0 seconds RetCode: 0 Status: OK PackageFile: gDRutils_1.8.0.tar.gz PackageFileSize: 368.7 KiB