Package: gDRutils Version: 1.6.0 Command: /Library/Frameworks/R.framework/Resources/bin/R CMD INSTALL gDRutils StartedAt: 2025-10-13 16:07:03 -0400 (Mon, 13 Oct 2025) EndedAt: 2025-10-13 16:07:53 -0400 (Mon, 13 Oct 2025) EllapsedTime: 49.6 seconds RetCode: 0 Status: OK