Package: gDRutils Version: 1.6.0 Command: rm -rf gDRutils.buildbin-libdir && mkdir gDRutils.buildbin-libdir && /Users/biocbuild/BBS/utils/build-universal.sh gDRutils_1.6.0.tar.gz /Library/Frameworks/R.framework/Resources/bin/R gDRutils.buildbin-libdir StartedAt: 2025-10-14 13:30:43 -0400 (Tue, 14 Oct 2025) EndedAt: 2025-10-14 13:32:08 -0400 (Tue, 14 Oct 2025) EllapsedTime: 84.7 seconds RetCode: 0 Status: OK PackageFile: gDRutils_1.6.0.tgz PackageFileSize: 656.4 KiB