Package: gDRutils Version: 1.6.0 Command: /Library/Frameworks/R.framework/Resources/bin/R CMD INSTALL gDRutils StartedAt: 2025-04-21 15:30:01 -0400 (Mon, 21 Apr 2025) EndedAt: 2025-04-21 15:30:34 -0400 (Mon, 21 Apr 2025) EllapsedTime: 32.6 seconds RetCode: 0 Status: OK