Package: gDRutils Version: 1.6.0 Command: /home/biocbuild/R/R/bin/R CMD build --keep-empty-dirs --no-resave-data gDRutils StartedAt: 2025-09-26 01:48:35 -0000 (Fri, 26 Sep 2025) EndedAt: 2025-09-26 01:49:22 -0000 (Fri, 26 Sep 2025) EllapsedTime: 47.0 seconds RetCode: 0 Status: OK PackageFile: gDRutils_1.6.0.tar.gz PackageFileSize: 358.5 KiB