Package: gDRutils Version: 1.6.0 Command: /Library/Frameworks/R.framework/Resources/bin/R CMD INSTALL gDRutils StartedAt: 2025-09-29 17:16:05 -0400 (Mon, 29 Sep 2025) EndedAt: 2025-09-29 17:16:32 -0400 (Mon, 29 Sep 2025) EllapsedTime: 26.8 seconds RetCode: 0 Status: OK