Package: gDRutils Version: 1.6.0 Command: rm -rf gDRutils.buildbin-libdir && mkdir gDRutils.buildbin-libdir && /Users/biocbuild/BBS/utils/build-universal.sh gDRutils_1.6.0.tar.gz /Library/Frameworks/R.framework/Resources/bin/R gDRutils.buildbin-libdir StartedAt: 2025-10-01 18:34:44 -0400 (Wed, 01 Oct 2025) EndedAt: 2025-10-01 18:35:13 -0400 (Wed, 01 Oct 2025) EllapsedTime: 29.3 seconds RetCode: 0 Status: OK PackageFile: gDRutils_1.6.0.tgz PackageFileSize: 657.4 KiB