Package: gDRstyle Version: 1.8.0 Command: /Library/Frameworks/R.framework/Resources/bin/R CMD INSTALL gDRstyle StartedAt: 2025-11-10 15:07:51 -0500 (Mon, 10 Nov 2025) EndedAt: 2025-11-10 15:07:53 -0500 (Mon, 10 Nov 2025) EllapsedTime: 1.9 seconds RetCode: 0 Status: OK