Package: gDRstyle Version: 1.8.0 Command: /Library/Frameworks/R.framework/Resources/bin/R CMD build --keep-empty-dirs --no-resave-data gDRstyle StartedAt: 2025-11-10 16:28:11 -0500 (Mon, 10 Nov 2025) EndedAt: 2025-11-10 16:28:15 -0500 (Mon, 10 Nov 2025) EllapsedTime: 4.0 seconds RetCode: 0 Status: OK PackageFile: gDRstyle_1.8.0.tar.gz PackageFileSize: 598 KiB