Package: gDRstyle Version: 1.8.0 Command: rm -rf gDRstyle.buildbin-libdir && mkdir gDRstyle.buildbin-libdir && /Users/biocbuild/BBS/utils/build-universal.sh gDRstyle_1.8.0.tar.gz /Library/Frameworks/R.framework/Resources/bin/R gDRstyle.buildbin-libdir StartedAt: 2025-11-10 23:20:56 -0500 (Mon, 10 Nov 2025) EndedAt: 2025-11-10 23:20:59 -0500 (Mon, 10 Nov 2025) EllapsedTime: 3.1 seconds RetCode: 0 Status: OK PackageFile: gDRstyle_1.8.0.tgz PackageFileSize: 658.9 KiB