Package: gDRimport Version: 1.8.0 Command: /Library/Frameworks/R.framework/Resources/bin/R CMD build --keep-empty-dirs --no-resave-data gDRimport StartedAt: 2025-11-10 16:28:11 -0500 (Mon, 10 Nov 2025) EndedAt: 2025-11-10 16:28:33 -0500 (Mon, 10 Nov 2025) EllapsedTime: 21.2 seconds RetCode: 0 Status: OK PackageFile: gDRimport_1.8.0.tar.gz PackageFileSize: 3.009 MiB