Package: gDRcore Version: 1.6.0 Command: /home/biocbuild/bbs-3.21-bioc/R/bin/R CMD build --keep-empty-dirs --no-resave-data gDRcore StartedAt: 2025-10-12 17:36:20 -0400 (Sun, 12 Oct 2025) EndedAt: 2025-10-12 17:37:00 -0400 (Sun, 12 Oct 2025) EllapsedTime: 40.0 seconds RetCode: 0 Status: OK PackageFile: gDRcore_1.6.0.tar.gz PackageFileSize: 1.089 MiB