Package: gDR Version: 1.8.0 Command: /home/biocbuild/bbs-3.22-bioc/R/bin/R CMD build --keep-empty-dirs --no-resave-data --md5 gDR StartedAt: 2025-11-11 17:48:14 -0500 (Tue, 11 Nov 2025) EndedAt: 2025-11-11 17:49:07 -0500 (Tue, 11 Nov 2025) EllapsedTime: 53.0 seconds RetCode: 0 Status: OK PackageFile: gDR_1.8.0.tar.gz PackageFileSize: 276.9 KiB