Package: gDR Version: 1.6.0 Command: /home/biocbuild/R/R/bin/R CMD build --keep-empty-dirs --no-resave-data gDR StartedAt: 2025-10-14 01:00:59 -0000 (Tue, 14 Oct 2025) EndedAt: 2025-10-14 01:02:07 -0000 (Tue, 14 Oct 2025) EllapsedTime: 68.0 seconds RetCode: 0 Status: OK PackageFile: gDR_1.6.0.tar.gz PackageFileSize: 299.6 KiB