Package: gDR Version: 1.8.0 Command: /Library/Frameworks/R.framework/Resources/bin/R CMD INSTALL gDR StartedAt: 2025-10-31 15:24:27 -0400 (Fri, 31 Oct 2025) EndedAt: 2025-10-31 15:24:37 -0400 (Fri, 31 Oct 2025) EllapsedTime: 9.5 seconds RetCode: 0 Status: OK