Package: gDR Version: 1.8.0 Command: /Library/Frameworks/R.framework/Resources/bin/R CMD build --keep-empty-dirs --no-resave-data gDR StartedAt: 2025-11-02 16:27:41 -0500 (Sun, 02 Nov 2025) EndedAt: 2025-11-02 16:28:03 -0500 (Sun, 02 Nov 2025) EllapsedTime: 21.2 seconds RetCode: 0 Status: OK PackageFile: gDR_1.8.0.tar.gz PackageFileSize: 276.1 KiB