Package: gDR Version: 1.8.0 Command: rm -rf gDR.buildbin-libdir && mkdir gDR.buildbin-libdir && /Users/biocbuild/BBS/utils/build-universal.sh gDR_1.8.0.tar.gz /Library/Frameworks/R.framework/Resources/bin/R gDR.buildbin-libdir StartedAt: 2025-10-31 23:07:51 -0400 (Fri, 31 Oct 2025) EndedAt: 2025-10-31 23:08:05 -0400 (Fri, 31 Oct 2025) EllapsedTime: 14.3 seconds RetCode: 0 Status: OK PackageFile: gDR_1.8.0.tgz PackageFileSize: 279.3 KiB