Package: gDNAx Version: 1.8.0 Command: /home/biocbuild/bbs-3.22-bioc/R/bin/R CMD build --keep-empty-dirs --no-resave-data --md5 gDNAx StartedAt: 2025-11-11 17:48:12 -0500 (Tue, 11 Nov 2025) EndedAt: 2025-11-11 17:49:46 -0500 (Tue, 11 Nov 2025) EllapsedTime: 94.1 seconds RetCode: 1 Status: ERROR PackageFile: None PackageFileSize: NA