Package: gCrisprTools Version: 2.16.0 Command: /home/biocbuild/R/R/bin/R CMD INSTALL gCrisprTools StartedAt: 2025-11-24 21:24:34 -0000 (Mon, 24 Nov 2025) EndedAt: 2025-11-24 21:25:12 -0000 (Mon, 24 Nov 2025) EllapsedTime: 38.1 seconds RetCode: 0 Status: OK