Package: gCrisprTools Version: 2.16.0 Command: /home/biocbuild/R/R/bin/R CMD build --keep-empty-dirs --no-resave-data gCrisprTools StartedAt: 2025-11-21 02:33:22 -0000 (Fri, 21 Nov 2025) EndedAt: 2025-11-21 02:39:40 -0000 (Fri, 21 Nov 2025) EllapsedTime: 378.4 seconds RetCode: 0 Status: OK PackageFile: gCrisprTools_2.16.0.tar.gz PackageFileSize: 3.3 MiB