Package: gCrisprTools Version: 2.16.0 Command: /home/biocbuild/bbs-3.22-bioc/R/bin/R CMD INSTALL gCrisprTools StartedAt: 2025-11-11 15:22:48 -0500 (Tue, 11 Nov 2025) EndedAt: 2025-11-11 15:23:15 -0500 (Tue, 11 Nov 2025) EllapsedTime: 26.7 seconds RetCode: 0 Status: OK