Package: gCrisprTools Version: 2.16.0 Command: /home/biocbuild/bbs-3.22-bioc/R/bin/R CMD check --install=check:gCrisprTools.install-out.txt --library=/home/biocbuild/bbs-3.22-bioc/R/site-library --timings gCrisprTools_2.16.0.tar.gz StartedAt: 2025-11-11 23:51:59 -0500 (Tue, 11 Nov 2025) EndedAt: 2025-11-12 00:03:28 -0500 (Wed, 12 Nov 2025) EllapsedTime: 688.6 seconds RetCode: 0 Status: OK CheckDir: gCrisprTools.Rcheck Warnings: 0