Package: gCrisprTools Version: 2.16.0 Command: /home/biocbuild/bbs-3.22-bioc/R/bin/R CMD build --keep-empty-dirs --no-resave-data --md5 gCrisprTools StartedAt: 2025-11-11 17:47:58 -0500 (Tue, 11 Nov 2025) EndedAt: 2025-11-11 17:51:53 -0500 (Tue, 11 Nov 2025) EllapsedTime: 235.2 seconds RetCode: 0 Status: OK PackageFile: gCrisprTools_2.16.0.tar.gz PackageFileSize: 4.396 MiB