Package: gCrisprTools Version: 2.14.0 Command: /home/biocbuild/R/R/bin/R CMD INSTALL gCrisprTools StartedAt: 2025-09-29 20:31:46 -0000 (Mon, 29 Sep 2025) EndedAt: 2025-09-29 20:32:25 -0000 (Mon, 29 Sep 2025) EllapsedTime: 39.1 seconds RetCode: 0 Status: OK