Package: gCrisprTools Version: 2.14.0 Command: /home/biocbuild/R/R/bin/R CMD build --keep-empty-dirs --no-resave-data gCrisprTools StartedAt: 2025-09-30 01:38:23 -0000 (Tue, 30 Sep 2025) EndedAt: 2025-09-30 01:44:06 -0000 (Tue, 30 Sep 2025) EllapsedTime: 342.8 seconds RetCode: 0 Status: OK PackageFile: gCrisprTools_2.14.0.tar.gz PackageFileSize: 4.262 MiB