Package: gCrisprTools Version: 2.14.0 Command: /Library/Frameworks/R.framework/Resources/bin/R CMD build --keep-empty-dirs --no-resave-data gCrisprTools StartedAt: 2025-10-14 00:45:55 -0400 (Tue, 14 Oct 2025) EndedAt: 2025-10-14 00:51:29 -0400 (Tue, 14 Oct 2025) EllapsedTime: 333.4 seconds RetCode: 0 Status: OK PackageFile: gCrisprTools_2.14.0.tar.gz PackageFileSize: 4.713 MiB