Package: gCrisprTools Version: 2.16.0 Maintainer: Russell Bainer MaintainerEmail: russ.bainer at gmail.com git_url: https://git.bioconductor.org/packages/gCrisprTools git_branch: RELEASE_3_22 git_last_commit: 7b3b1fd git_last_commit_date: 2025-10-29 10:34:14 -0500 (Wed, 29 Oct 2025)