Package: funtooNorm Version: 1.34.0 Command: /home/biocbuild/bbs-3.22-bioc/R/bin/R CMD INSTALL funtooNorm StartedAt: 2025-11-11 15:50:30 -0500 (Tue, 11 Nov 2025) EndedAt: 2025-11-11 15:51:14 -0500 (Tue, 11 Nov 2025) EllapsedTime: 43.8 seconds RetCode: 0 Status: OK