Package: funtooNorm Version: 1.34.0 Command: /home/biocbuild/bbs-3.22-bioc/R/bin/R CMD build --keep-empty-dirs --no-resave-data --md5 funtooNorm StartedAt: 2025-11-11 17:46:44 -0500 (Tue, 11 Nov 2025) EndedAt: 2025-11-11 17:46:45 -0500 (Tue, 11 Nov 2025) EllapsedTime: 1.0 seconds RetCode: 0 Status: OK PackageFile: funtooNorm_1.34.0.tar.gz PackageFileSize: 2.459 MiB