Package: funtooNorm Version: 1.32.0 Command: /home/biocbuild/R/R/bin/R CMD INSTALL funtooNorm StartedAt: 2025-10-13 21:00:18 -0000 (Mon, 13 Oct 2025) EndedAt: 2025-10-13 21:01:21 -0000 (Mon, 13 Oct 2025) EllapsedTime: 63.5 seconds RetCode: 0 Status: OK