Package: funtooNorm Version: 1.34.0 Command: /Library/Frameworks/R.framework/Resources/bin/R CMD INSTALL funtooNorm StartedAt: 2025-11-03 15:24:07 -0500 (Mon, 03 Nov 2025) EndedAt: 2025-11-03 15:24:26 -0500 (Mon, 03 Nov 2025) EllapsedTime: 19.1 seconds RetCode: 0 Status: OK