Package: funtooNorm Version: 1.34.0 Command: /Library/Frameworks/R.framework/Resources/bin/R CMD build --keep-empty-dirs --no-resave-data funtooNorm StartedAt: 2025-10-31 16:30:20 -0400 (Fri, 31 Oct 2025) EndedAt: 2025-10-31 16:30:21 -0400 (Fri, 31 Oct 2025) EllapsedTime: 1.0 seconds RetCode: 0 Status: OK PackageFile: funtooNorm_1.34.0.tar.gz PackageFileSize: 2.458 MiB