Package: funtooNorm Version: 1.34.0 Command: rm -rf funtooNorm.buildbin-libdir && mkdir funtooNorm.buildbin-libdir && /Users/biocbuild/BBS/utils/build-universal.sh funtooNorm_1.34.0.tar.gz /Library/Frameworks/R.framework/Resources/bin/R funtooNorm.buildbin-libdir StartedAt: 2025-11-02 23:05:17 -0500 (Sun, 02 Nov 2025) EndedAt: 2025-11-02 23:05:42 -0500 (Sun, 02 Nov 2025) EllapsedTime: 25.4 seconds RetCode: 0 Status: OK PackageFile: funtooNorm_1.34.0.tgz PackageFileSize: 1.145 MiB