Package: funOmics Version: 1.4.0 Command: /home/biocbuild/bbs-3.22-bioc/R/bin/R CMD INSTALL funOmics StartedAt: 2025-11-11 15:30:19 -0500 (Tue, 11 Nov 2025) EndedAt: 2025-11-11 15:30:35 -0500 (Tue, 11 Nov 2025) EllapsedTime: 16.2 seconds RetCode: 0 Status: OK