Package: funOmics Version: 1.4.0 Command: /home/biocbuild/bbs-3.22-bioc/R/bin/R CMD build --keep-empty-dirs --no-resave-data --md5 funOmics StartedAt: 2025-11-11 17:46:41 -0500 (Tue, 11 Nov 2025) EndedAt: 2025-11-11 17:52:31 -0500 (Tue, 11 Nov 2025) EllapsedTime: 349.4 seconds RetCode: 0 Status: OK PackageFile: funOmics_1.4.0.tar.gz PackageFileSize: 52.84 KiB