Package: funOmics Version: 1.2.0 Command: /home/biocbuild/R/R/bin/R CMD INSTALL funOmics StartedAt: 2025-10-13 20:40:08 -0000 (Mon, 13 Oct 2025) EndedAt: 2025-10-13 20:40:32 -0000 (Mon, 13 Oct 2025) EllapsedTime: 24.3 seconds RetCode: 0 Status: OK