Package: funOmics Version: 1.2.0 Command: /home/biocbuild/R/R/bin/R CMD build --keep-empty-dirs --no-resave-data funOmics StartedAt: 2025-10-14 00:58:25 -0000 (Tue, 14 Oct 2025) EndedAt: 2025-10-14 01:07:25 -0000 (Tue, 14 Oct 2025) EllapsedTime: 540.2 seconds RetCode: 0 Status: OK PackageFile: funOmics_1.2.0.tar.gz PackageFileSize: 53.09 KiB