Package: frmaTools Version: 1.62.0 Command: /home/biocbuild/bbs-3.22-bioc/R/bin/R CMD INSTALL frmaTools StartedAt: 2025-11-11 15:17:04 -0500 (Tue, 11 Nov 2025) EndedAt: 2025-11-11 15:17:08 -0500 (Tue, 11 Nov 2025) EllapsedTime: 3.6 seconds RetCode: 0 Status: OK